BEGIN:VCALENDAR
VERSION:2.0
PRODID:-//The Reiki Experience - ECPv6.13.2.1//NONSGML v1.0//EN
CALSCALE:GREGORIAN
METHOD:PUBLISH
X-ORIGINAL-URL:https://www.reikiexp.com
X-WR-CALDESC:Events for The Reiki Experience
REFRESH-INTERVAL;VALUE=DURATION:PT1H
X-Robots-Tag:noindex
X-PUBLISHED-TTL:PT1H
BEGIN:VTIMEZONE
TZID:America/Los_Angeles
BEGIN:DAYLIGHT
TZOFFSETFROM:-0800
TZOFFSETTO:-0700
TZNAME:PDT
DTSTART:20220313T100000
END:DAYLIGHT
BEGIN:STANDARD
TZOFFSETFROM:-0700
TZOFFSETTO:-0800
TZNAME:PST
DTSTART:20221106T090000
END:STANDARD
END:VTIMEZONE
BEGIN:VEVENT
DTSTART;TZID=America/Los_Angeles:20221104T130000
DTEND;TZID=America/Los_Angeles:20221104T143000
DTSTAMP:20260423T162757
CREATED:20221102T021833Z
LAST-MODIFIED:20221102T021833Z
UID:1717-1667566800-1667572200@www.reikiexp.com
SUMMARY:Complete Self-Mastery Course - November 4th\, 2022
DESCRIPTION:There are a lot of manifestation courses out there. You know what is the opposite of infinite abundance?  Limited victim.  “I can’t ever get what I want\, no matter how hard I try.” \nShifting conversations or chanting mantras “I am abundant” is only 50% of the equation.  Gaining awareness into our hidden secret commitments to stay small is the other 50% of the equation.   \nWe fear not having\, but we fear having even more.\nWe fear not being heard\, but we fear visibility even more.\nWe fear not being loved\, but we fear love even more. \nOur ego keeps us out of love\, shining brightly and having our dreams come true. It doesn’t matter if you want to manifest abundance in health\, love or finances.   \nThe “victim” is stored in the spleen stomach. “Punch in the stomach”.\nThe “bully” is stored in the liver.\nThe heart is the manifestor.\nThe kidney is the organ that supports and nourishes.  \nSingle drop-in $125-  bring friends! \nMuch love\nWinnie
URL:https://www.reikiexp.com/event/complete-self-mastery-course-november-4th-2022/
LOCATION:Awareness Center Yoga\, 2801 E Foothill Blvd.\, Pasadena\, CA\, 91107\, United States
CATEGORIES:Paid Events
ATTACH;FMTTYPE=image/png:https://www.reikiexp.com/wp-content/uploads/2022/09/complete-self-mastery-featured-image.png
ORGANIZER;CN="Mindful Healing Heart":MAILTO:love@mindfulhealingheart.com
END:VEVENT
BEGIN:VEVENT
DTSTART;TZID=America/Los_Angeles:20221028T200000
DTEND;TZID=America/Los_Angeles:20221028T220000
DTSTAMP:20260423T162757
CREATED:20221102T022022Z
LAST-MODIFIED:20221102T022022Z
UID:1720-1666987200-1666994400@www.reikiexp.com
SUMMARY:Sacred Brotherhood - October\, 2022
DESCRIPTION:Men\, don’t miss out! Join me and many more at Sacred Brotherhood every 4th Friday of the month at the Awareness Center Yoga in Pasadena\, CA. \nPresented by J Jay Dubois\, Spiritual Archaeologist and Shamanic Healer.
URL:https://www.reikiexp.com/event/sacred-brotherhood-november-2022-2/
LOCATION:Awareness Center Yoga\, 2801 E Foothill Blvd.\, Pasadena\, CA\, 91107\, United States
CATEGORIES:Paid Events
ATTACH;FMTTYPE=image/png:https://www.reikiexp.com/wp-content/uploads/2022/10/jay-shaman-sacred-brotherhood.png
ORGANIZER;CN="Spiritual Digger":MAILTO:dubjonathan@gmail.com
END:VEVENT
BEGIN:VEVENT
DTSTART;TZID=America/Los_Angeles:20221028T130000
DTEND;TZID=America/Los_Angeles:20221028T143000
DTSTAMP:20260423T162757
CREATED:20221101T232308Z
LAST-MODIFIED:20221102T021917Z
UID:1713-1666962000-1666967400@www.reikiexp.com
SUMMARY:Complete Self-Mastery Course - October 28th\, 2022
DESCRIPTION:This week we are going deeper into the conflicts inside and outside of us.  Wars between our masculine and feminine.  Wars between “I want to get this done” vs “I need to rest”. \nWe are most blessed to have Pastor Peter join us on a journey into the Greatest Harmony.  \nDo you know all the conflicts have already been solved by God?  When we connect to God\, we begin to see the solutions that God has already provided for us.  \nTo receive a FREE HEALING BLESSING every Wednesday:\nhttps://transformationgroup.mn.co/share/zfuhOULx5L-VzOFB \nSee you 1-2:30pm Friday!  Doors / zoom open 10 minutes before with some moving meditation
URL:https://www.reikiexp.com/event/complete-self-mastery-course-october-28th-2022/
LOCATION:Awareness Center Yoga\, 2801 E Foothill Blvd.\, Pasadena\, CA\, 91107\, United States
CATEGORIES:Paid Events
ATTACH;FMTTYPE=image/png:https://www.reikiexp.com/wp-content/uploads/2022/09/complete-self-mastery-featured-image.png
ORGANIZER;CN="Mindful Healing Heart":MAILTO:love@mindfulhealingheart.com
END:VEVENT
BEGIN:VEVENT
DTSTART;TZID=America/Los_Angeles:20221014T130000
DTEND;TZID=America/Los_Angeles:20221014T143000
DTSTAMP:20260423T162757
CREATED:20221012T192831Z
LAST-MODIFIED:20221012T194451Z
UID:1652-1665752400-1665757800@www.reikiexp.com
SUMMARY:Complete Self-Mastery Course - October 14th\, 2022
DESCRIPTION:Wow.  Last Friday was our most powerful session yet.  The sharing and the blessings were heart opening\, spontaneous and I am truly honored to co-create this healing vortex as we up level together.  I am listening to what the group needs\, asking and receiving support\, and crowd-sourced a powerful PTSD acupuncture “light needle transmission”. \nNext Friday we are going to examine all the DENIAL and SUPPRESSION that block us to truly listening and finding compassion with ourselves and each other.   \nHave you ever pushed yourself too far?  (I have)\nHave you ever pushed someone else too far?  (I have)\nAs children\, our parents may have denied or suppressed our truth\nWe may have only been appreciated for our external (beauty/money) but not our internal (peace/creativity).\nWe may have sacrificed listening to our feelings and our heart to “doing the right thing” or “looking good”\nWe may have shut down or blocked others because we are scared. \nNext week we are most blessed to have USC professor in Physical Therapy and Oncology to co-facilitate “how to listen to our body and how we strengthen the body to strengthen the mind.”  Marisa Perdomo got cancer as a teenager and is the only survivor of her cohort.  Now in her 60s\, every time she shares how her SPIRIT guided her in her life journey is absolutely inspiring.  \nSee you 1-2:30pm Friday!  Doors / zoom open 10 minutes before with some moving meditation. \nEnjoying class?  Share with your friends!  We offer 10% cash back for referrals.  \nMuch love\nWinnie
URL:https://www.reikiexp.com/event/complete-self-mastery-course-october-14th-2022/
LOCATION:Awareness Center Yoga\, 2801 E Foothill Blvd.\, Pasadena\, CA\, 91107\, United States
CATEGORIES:Paid Events
ATTACH;FMTTYPE=image/png:https://www.reikiexp.com/wp-content/uploads/2022/09/complete-self-mastery-featured-image.png
ORGANIZER;CN="Mindful Healing Heart":MAILTO:love@mindfulhealingheart.com
END:VEVENT
BEGIN:VEVENT
DTSTART;TZID=America/Los_Angeles:20221007T180000
DTEND;TZID=America/Los_Angeles:20221007T200000
DTSTAMP:20260423T162757
CREATED:20220929T220414Z
LAST-MODIFIED:20220929T235046Z
UID:1385-1665165600-1665172800@www.reikiexp.com
SUMMARY:Reiki Open House - October\, 2022
DESCRIPTION:A new event is coming up\, Reiki Open House! Come experience the health and wellness benefits of Reiki – for FREE! This event is for everyone\, all levels welcome\, and no experience necessary. If you are new to Reiki this is a great way to check it out and meet Reiki practitioners. If you’re a Reiki practitioner this is an opportunity to give and recieve\, hone your skills\, and increase your community impact all while meeting like-minded individuals and those interested in Reiki. Everyone will get a chance to receive a brief Reiki session from a group of healers. No RSVP needed\, just show up and enjoy! \nDon’t forget to add it to your calendar and we hope to see you there! \nWhen coming to the event\, use the rear entrance to the Awareness Center on Wenger Alley. 😀🙏
URL:https://www.reikiexp.com/event/reiki-open-house-october-2022/
LOCATION:Awareness Center Yoga\, 2801 E Foothill Blvd.\, Pasadena\, CA\, 91107\, United States
CATEGORIES:Free Events
ATTACH;FMTTYPE=image/png:https://www.reikiexp.com/wp-content/uploads/2022/09/the-reiki-experience-open-house-flyer.png
ORGANIZER;CN="The Reiki Experience":MAILTO:hello@reikiexp.com
END:VEVENT
BEGIN:VEVENT
DTSTART;TZID=America/Los_Angeles:20221007T130000
DTEND;TZID=America/Los_Angeles:20221007T143000
DTSTAMP:20260423T162757
CREATED:20221012T192451Z
LAST-MODIFIED:20221012T194418Z
UID:1650-1665147600-1665153000@www.reikiexp.com
SUMMARY:Complete Self-Mastery Course - October 7th\, 2022
DESCRIPTION:Hi everyone \nIf you have lower back pain\, knee pain\, ankle pain\, spine issues\, (or if you want to learn how to transform your clients)\, you most definitely don’t want to miss next Friday’s journey from FEAR to the Greatest Light\, where we learn and download transmissions to gain trust\, strength\, support and foundation.   \nIf you have fearful parents and your subconscious mind is full of fearful thoughts (aka the voice of your mother / father)\, you definitely want to bring your issues to class.  For me\, my mother and grandmother were refugees (escaped communist in a boat) and she has a fear of being a victim\, being poor\, being looked down on\, being powerful\, and knowing God / spiritual stuff.  If you have no fears but your clients have fears\, then you also want to take this class to know how to stabilize them! \nThis week\, I downloaded that the stress response of Fight\, Flight\, Freeze and Fawn is stored in our hips\, ankles\, heart/womb and third chakra respectively.  \n* If you don’t feel safe\, e.g. you get defensive easily\, that’s in the hips.  (Practice: Greatest forgiveness)\n* If you want to run away\, e.g. you want to avoid\, that’s in the ankles.  (But when you avoid your pain\, you are also avoiding your gift and you don’t move forward in life).  (Practice: Greatest Light)\n* If you want to freeze\, e.g. heart walls\, you can’t receive God’s abundance in health love and finances.  (Practice: total submission to God = being ONE with all existence)\n* If you people please\, e.g. compromise yourself for others\, you are going to feel weak in the solar plexus and have digestive issues. (Practice: Greatest Humility)  \nThat’s why the next 3 weeks will feature yoga teachers that help us MOVE the BLOCKAGES out of the BODY.  This Friday we are most blessed to have Sheila Smith.  Sheila has over 10 years of teaching experience and is certified level 2 Kundalini yoga.  She is passionate about creating community and camaraderie and she loves helping students connect to their higher self through the technology of Kundalini yoga!  Please wear clothes you can do yoga in and bring a yoga mat. \nIf you have ever wondered “why does God give me this chronic illness” or “why hasn’t God sent me love” or “why am I still feeling poor”\, it’s because you have been BLOCKING God. I spent my whole life resisting God (because my mom did) and my ego brought so much SUFFERING.  If you have fear\, it’s because you haven’t let God into your life!  I look forward to another week of intense purification before sharing all my R&D with you on Friday. Learn how to heal kidney at the soul\, heart\, mind\, energy\, body level.  \nPlease kindly RSVP if you attend in person for capacity reasons (2801 E Foothill Blvd\, Pasadena) or on zoom.   Friday 1-2:30pm PST\, we welcome you to arrive 5-10 minutes early to get some bonus healing blessings!  \nDeeply grateful and I bow down to all of you for the opportunity to transform together\nWinnie \np.s. If you enjoy this\, share with your friends!  $125 single healing drop-in.  Know somebody who has a lot of fear?
URL:https://www.reikiexp.com/event/complete-self-mastery-course-october-7th-2022/
LOCATION:Awareness Center Yoga\, 2801 E Foothill Blvd.\, Pasadena\, CA\, 91107\, United States
CATEGORIES:Paid Events
ATTACH;FMTTYPE=image/png:https://www.reikiexp.com/wp-content/uploads/2022/09/complete-self-mastery-featured-image.png
ORGANIZER;CN="Mindful Healing Heart":MAILTO:love@mindfulhealingheart.com
END:VEVENT
BEGIN:VEVENT
DTSTART;TZID=America/Los_Angeles:20220930T130000
DTEND;TZID=America/Los_Angeles:20220930T143000
DTSTAMP:20260423T162757
CREATED:20220929T231428Z
LAST-MODIFIED:20221012T194223Z
UID:1414-1664542800-1664548200@www.reikiexp.com
SUMMARY:Complete Self-Mastery Course - September 30th\, 2022
DESCRIPTION:Hi everyone \nDo you know the effect of losing menstrual blood and semen have on the body\, how it affects the organs and how it affects your emotions? Do you know the society expectations of being a “nice girl” or a “tough guy” have on your suppressed emotions? \nWhy is it easier for women to hold grudges than forgive?  Why is it easier for men to have fears than to trust? \nYou absolutely don’t want to miss this Friday\, our journey from anger to forgiveness\, especially if you are a woman and you want to prevent breast cancer and have optimal reproductive health.  If you have fibroids / cysts\, you don’t want to miss the blessings on your liver.  (Next Friday is fear). \nIf you are a beginner\, make a list of every person that you think have “wronged” you and come ready to let it go.\nIf you are advanced\, after you make the list\, cross it out and see the perfection / blessings that came out of each pain.  Practice the Diamond Sutra\, which is seeing life as a dream and that everything is an illusion. Practice humility “I don’t know God’s plan”\, or “I don’t know what I don’t know”\, aka the reason I got mad is because of my blind spots.  \nWEAR SOMETHING TO DANCE IN.  I welcome you to bring rattles or drums to make some noise.  This weekend I received a transmission in Tao Dance\, giving me the empowerment to channel a field of vibration.  \nThis week we are most blessed to have Jessica Hagan co-facilitate.  She is a family constellations facilitator\, which offers a unique way to heal family dynamics\, ancestral trauma\, and dysfunctional patterns.  When I had my constellation done with her\, I learned so much about my mother and my grandmother.  The demo person for this is Maxine as I feel she needs it the most. https://www.urbanhealersofla.com \nIf you enjoy this\, share with your friends!  $125 single healing drop-in.  Know somebody who has been trying to forgive forever and still hasn’t?   \nLast week’s replay on Blockages to Love: \nPlease kindly RSVP if you attend in person for capacity reasons (2801 E Foothill Blvd\, Pasadena) or on zoom  \nDeeply grateful and I bow down to all of you for the opportunity to transform together\nWinnie
URL:https://www.reikiexp.com/event/complete-self-mastery-course-september-30th-2022/
LOCATION:Awareness Center Yoga\, 2801 E Foothill Blvd.\, Pasadena\, CA\, 91107\, United States
CATEGORIES:Paid Events
ATTACH;FMTTYPE=image/png:https://www.reikiexp.com/wp-content/uploads/2022/09/complete-self-mastery-featured-image.png
ORGANIZER;CN="Mindful Healing Heart":MAILTO:love@mindfulhealingheart.com
END:VEVENT
END:VCALENDAR