BEGIN:VCALENDAR
VERSION:2.0
PRODID:-//The Reiki Experience - ECPv6.13.2.1//NONSGML v1.0//EN
CALSCALE:GREGORIAN
METHOD:PUBLISH
X-ORIGINAL-URL:https://www.reikiexp.com
X-WR-CALDESC:Events for The Reiki Experience
REFRESH-INTERVAL;VALUE=DURATION:PT1H
X-Robots-Tag:noindex
X-PUBLISHED-TTL:PT1H
BEGIN:VTIMEZONE
TZID:America/Los_Angeles
BEGIN:DAYLIGHT
TZOFFSETFROM:-0800
TZOFFSETTO:-0700
TZNAME:PDT
DTSTART:20220313T100000
END:DAYLIGHT
BEGIN:STANDARD
TZOFFSETFROM:-0700
TZOFFSETTO:-0800
TZNAME:PST
DTSTART:20221106T090000
END:STANDARD
END:VTIMEZONE
BEGIN:VEVENT
DTSTART;TZID=America/Los_Angeles:20221119T150000
DTEND;TZID=America/Los_Angeles:20221119T210000
DTSTAMP:20260423T204739
CREATED:20221012T212648Z
LAST-MODIFIED:20221103T215727Z
UID:1672-1668870000-1668891600@www.reikiexp.com
SUMMARY:Heal with Gratitude Thanksgiving and Giving Tuesday Gala Event
DESCRIPTION:House of Helping Hands brings together healers\, therapists\, and those interested in healing themselves on a journey of inquiry and transformation that will result in deeper self-knowledge\, healing\, and mutual upliftment. \nOur healers: \nWinnie Chan Wang \n\nTrauma-informed licensed acupuncturist and energy healer.\nBridges science and spirituality with 4 science degrees and doctoral study in acupuncture\nSpecializes in releasing trapped emotions in the physical body – organs and meridians (energy pathways)\n\n\nJay Dubois \n\nSpiritual archaeologist with a Ph.D. and 20+ years shamanic healing experience\nDig deep\, remove your blockages\, and uncover the treasure within\nBefriend your dark masculine and feminine\, generate self-love\, and become your own best friend\n\n\nPatille Violeta \n\nCombines a decade of Wellness Advocacy/Education and Community Leadership with Shamanic Healing\, Reiki\, Yoga\, Dance\, and Meditation\n\n\nJason Gong \n\nUsui Reiki master teacher and healer\n\n  \nHouse of Helping Hands presents “Heal with Gratitude – Thanksgiving and Giving Tuesday Gala Event.” \nThis will be on November 19\, Saturday from 3pm to 9pm at Radisson Hotel Chatsworth \n9777 Topanga Canyon Blvd.\, Chatsworth\, CA 91311 \nA double celebration for Thanksgiving (November 24) and Giving Tuesday (November 29). \n \nGet tickets and enter the raffle:\n  https://app.galabid.com/houseofhelpinghands/widgets/5a06545b-67bb-44a0-8a00-f71317c4210e
URL:https://www.reikiexp.com/event/heal-with-gratitude-thanksgiving-and-giving-tuesday-gala-event/
LOCATION:Radisson Hotel Chatsworth\, 9777 Topanga Canyon Blvd.\, Chatsworth\, CA\, 91311\, United States
CATEGORIES:Fundraiser,Paid Events
ATTACH;FMTTYPE=image/png:https://www.reikiexp.com/wp-content/uploads/2022/10/HHH-Heal-with-Gratitude-Event-Thumbnail.png
ORGANIZER;CN="House of Helping Hands":MAILTO:donate@houseofhelpinghands.org
END:VEVENT
END:VCALENDAR